Back to Build/check report for BioC 3.15 experimental data
ABCDE[F]GHIJKLMNOPQRSTUVWXYZ

This page was generated on 2022-05-26 14:50:01 -0400 (Thu, 26 May 2022).

HostnameOSArch (*)R versionInstalled pkgs
nebbiolo1Linux (Ubuntu 20.04.4 LTS)x86_644.2.0 (2022-04-22) -- "Vigorous Calisthenics" 4380
Click on any hostname to see more info about the system (e.g. compilers)      (*) as reported by 'uname -p', except on Windows and Mac OS X

All results for package fission


To the developers/maintainers of the fission package:
Make sure to use the following settings in order to reproduce any error or warning you see on this page.

raw results

Package 123/410HostnameOS / ArchINSTALLBUILDCHECK
fission 1.16.0  (landing page)
Michael Love
Snapshot Date: 2022-05-26 07:30:02 -0400 (Thu, 26 May 2022)
git_url: https://git.bioconductor.org/packages/fission
git_branch: RELEASE_3_15
git_last_commit: 4715feb
git_last_commit_date: 2022-04-26 13:14:42 -0400 (Tue, 26 Apr 2022)
nebbiolo1Linux (Ubuntu 20.04.4 LTS) / x86_64  OK    OK    OK  UNNEEDED, same version is already published