Index of /checkResults/3.15/data-experiment-LATEST/epimutacionsData/raw-results
Name
Last modified
Size
Description
Parent Directory
-
info.dcf
19-Oct-2022 03:50
300
nebbiolo1/
19-Oct-2022 03:50
-