Back to Build/check report for BioC 3.15 experimental data |
|
This page was generated on 2022-05-12 14:50:03 -0400 (Thu, 12 May 2022).
Hostname | OS | Arch (*) | R version | Installed pkgs |
---|---|---|---|---|
nebbiolo1 | Linux (Ubuntu 20.04.4 LTS) | x86_64 | 4.2.0 (2022-04-22) -- "Vigorous Calisthenics" | 4343 |
Click on any hostname to see more info about the system (e.g. compilers) (*) as reported by 'uname -p', except on Windows and Mac OS X |
To the developers/maintainers of the emtdata package: Make sure to use the following settings in order to reproduce any error or warning you see on this page. |
Package 111/410 | Hostname | OS / Arch | INSTALL | BUILD | CHECK | ||||||||
emtdata 1.4.0 (landing page) Malvika D. Kharbanda
| nebbiolo1 | Linux (Ubuntu 20.04.4 LTS) / x86_64 | OK | OK | OK | ![]() | |||||||