Index of /checkResults/3.15/data-experiment-LATEST/dorothea/raw-results/nebbiolo1

[ICO]NameLast modifiedSizeDescription

[DIR]Parent Directory  -  
[TXT]buildsrc-out.txt05-Aug-2022 03:50 809  
[   ]buildsrc-summary.dcf05-Aug-2022 03:50 415  
[TXT]checksrc-out.txt05-Aug-2022 03:50 3.6K 
[   ]checksrc-summary.dcf05-Aug-2022 03:50 425  
[TXT]install-out.txt05-Aug-2022 03:50 1.0K 
[   ]install-summary.dcf05-Aug-2022 03:50 260