Name | Last modified | Size | Description | |
---|---|---|---|---|
Parent Directory | - | |||
install-out.txt | 19-Oct-2022 03:50 | 898 | ||
install-summary.dcf | 19-Oct-2022 03:50 | 264 | ||
buildsrc-out.txt | 19-Oct-2022 03:50 | 881 | ||
buildsrc-summary.dcf | 19-Oct-2022 03:50 | 426 | ||
checksrc-out.txt | 19-Oct-2022 03:50 | 2.9K | ||
checksrc-summary.dcf | 19-Oct-2022 03:50 | 435 | ||