Name | Last modified | Size | Description | |
---|---|---|---|---|
Parent Directory | - | |||
checksrc-out.txt | 17-Feb-2022 22:36 | 3.5K | ||
install-out.txt | 17-Feb-2022 22:36 | 1.0K | ||
buildsrc-out.txt | 17-Feb-2022 22:36 | 876 | ||
checksrc-summary.dcf | 17-Feb-2022 22:36 | 504 | ||
buildsrc-summary.dcf | 17-Feb-2022 22:36 | 472 | ||
install-summary.dcf | 17-Feb-2022 22:36 | 299 | ||