Name | Last modified | Size | Description | |
---|---|---|---|---|
Parent Directory | - | |||
buildsrc-out.txt | 17-Feb-2022 22:36 | 849 | ||
buildsrc-summary.dcf | 17-Feb-2022 22:36 | 453 | ||
checksrc-out.txt | 17-Feb-2022 22:36 | 3.8K | ||
checksrc-summary.dcf | 17-Feb-2022 22:36 | 484 | ||
install-out.txt | 17-Feb-2022 22:36 | 1.0K | ||
install-summary.dcf | 17-Feb-2022 22:36 | 286 | ||