Name | Last modified | Size | Description | |
---|---|---|---|---|
Parent Directory | - | |||
buildsrc-out.txt | 17-Feb-2022 22:36 | 947 | ||
buildsrc-summary.dcf | 17-Feb-2022 22:36 | 451 | ||
checksrc-out.txt | 17-Feb-2022 22:36 | 2.9K | ||
checksrc-summary.dcf | 17-Feb-2022 22:36 | 484 | ||
install-out.txt | 17-Feb-2022 22:36 | 911 | ||
install-summary.dcf | 17-Feb-2022 22:36 | 285 | ||