Name | Last modified | Size | Description | |
---|---|---|---|---|
Parent Directory | - | |||
buildsrc-out.txt | 19-Oct-2022 03:50 | 878 | ||
buildsrc-summary.dcf | 19-Oct-2022 03:50 | 441 | ||
install-out.txt | 19-Oct-2022 03:50 | 1.0K | ||
install-summary.dcf | 19-Oct-2022 03:50 | 275 | ||
checksrc-out.txt | 19-Oct-2022 03:50 | 3.2K | ||
checksrc-summary.dcf | 19-Oct-2022 03:50 | 456 | ||