Name | Last modified | Size | Description | |
---|---|---|---|---|
Parent Directory | - | |||
buildsrc-out.txt | 17-Feb-2022 22:36 | 903 | ||
buildsrc-summary.dcf | 17-Feb-2022 22:36 | 443 | ||
checksrc-out.txt | 17-Feb-2022 22:36 | 3.4K | ||
checksrc-summary.dcf | 17-Feb-2022 22:36 | 468 | ||
install-out.txt | 17-Feb-2022 22:36 | 1.0K | ||
install-summary.dcf | 17-Feb-2022 22:36 | 281 | ||