![]() | Name | Last modified | Size | Description |
---|---|---|---|---|
![]() | Parent Directory | - | ||
![]() | buildsrc-out.txt | 17-Aug-2022 03:50 | 22K | |
![]() | buildsrc-summary.dcf | 17-Aug-2022 03:50 | 348 | |
![]() | checksrc-out.txt | 01-Apr-2022 03:50 | 3.6K | |
![]() | checksrc-summary.dcf | 01-Apr-2022 03:50 | 458 | |
![]() | install-out.txt | 17-Aug-2022 03:50 | 1.3K | |
![]() | install-summary.dcf | 17-Aug-2022 03:50 | 273 | |