Back to Build/check report for BioC 3.15 experimental data
ABCDEFGHIJKLMNOPQ[R]STUVWXYZ

This page was generated on 2022-06-30 14:50:10 -0400 (Thu, 30 Jun 2022).

HostnameOSArch (*)R versionInstalled pkgs
nebbiolo1Linux (Ubuntu 20.04.4 LTS)x86_644.2.0 (2022-04-22) -- "Vigorous Calisthenics" 4380
Click on any hostname to see more info about the system (e.g. compilers)      (*) as reported by 'uname -p', except on Windows and Mac OS X

INSTALL results for RforProteomics on nebbiolo1


To the developers/maintainers of the RforProteomics package:
Make sure to use the following settings in order to reproduce any error or warning you see on this page.

raw results

Package 306/410HostnameOS / ArchINSTALLBUILDCHECK
RforProteomics 1.34.0  (landing page)
Laurent Gatto
Snapshot Date: 2022-06-30 07:30:02 -0400 (Thu, 30 Jun 2022)
git_url: https://git.bioconductor.org/packages/RforProteomics
git_branch: RELEASE_3_15
git_last_commit: e58866e
git_last_commit_date: 2022-04-26 13:07:16 -0400 (Tue, 26 Apr 2022)
nebbiolo1Linux (Ubuntu 20.04.4 LTS) / x86_64  OK    ERROR  skipped

Summary

Package: RforProteomics
Version: 1.34.0
Command: /home/biocbuild/bbs-3.15-bioc/R/bin/R CMD INSTALL RforProteomics
StartedAt: 2022-06-30 10:06:56 -0400 (Thu, 30 Jun 2022)
EndedAt: 2022-06-30 10:07:08 -0400 (Thu, 30 Jun 2022)
EllapsedTime: 12.5 seconds
RetCode: 0
Status:   OK  

Command output

##############################################################################
##############################################################################
###
### Running command:
###
###   /home/biocbuild/bbs-3.15-bioc/R/bin/R CMD INSTALL RforProteomics
###
##############################################################################
##############################################################################


* installing to library ‘/home/biocbuild/bbs-3.15-bioc/R/library’
* installing *source* package ‘RforProteomics’ ...
** using staged installation
** R
** data
** inst
** byte-compile and prepare package for lazy loading
Warning: replacing previous import ‘MSnbase::plot’ by ‘graphics::plot’ when loading ‘RforProteomics’
** help
*** installing help indices
** building package indices
** installing vignettes
** testing if installed package can be loaded from temporary location
Warning: replacing previous import ‘MSnbase::plot’ by ‘graphics::plot’ when loading ‘RforProteomics’
** testing if installed package can be loaded from final location
Warning: replacing previous import ‘MSnbase::plot’ by ‘graphics::plot’ when loading ‘RforProteomics’
** testing if installed package keeps a record of temporary installation path
* DONE (RforProteomics)