Name | Last modified | Size | Description | |
---|---|---|---|---|
Parent Directory | - | |||
install-summary.dcf | 19-Oct-2022 03:50 | 277 | ||
buildsrc-summary.dcf | 19-Oct-2022 03:50 | 447 | ||
checksrc-summary.dcf | 19-Oct-2022 03:50 | 464 | ||
buildsrc-out.txt | 19-Oct-2022 03:50 | 833 | ||
install-out.txt | 19-Oct-2022 03:50 | 1.0K | ||
checksrc-out.txt | 19-Oct-2022 03:50 | 3.4K | ||