Name | Last modified | Size | Description | |
---|---|---|---|---|
Parent Directory | - | |||
install-summary.dcf | 17-Feb-2022 22:36 | 269 | ||
install-out.txt | 17-Feb-2022 22:36 | 895 | ||
checksrc-summary.dcf | 17-Feb-2022 22:36 | 445 | ||
checksrc-out.txt | 17-Feb-2022 22:36 | 2.6K | ||
buildsrc-summary.dcf | 17-Feb-2022 22:36 | 427 | ||
buildsrc-out.txt | 17-Feb-2022 22:36 | 808 | ||