![]() | Name | Last modified | Size | Description |
---|---|---|---|---|
![]() | Parent Directory | - | ||
![]() | buildsrc-out.txt | 19-Oct-2022 03:50 | 797 | |
![]() | buildsrc-summary.dcf | 19-Oct-2022 03:50 | 416 | |
![]() | checksrc-out.txt | 19-Oct-2022 03:50 | 2.6K | |
![]() | checksrc-summary.dcf | 19-Oct-2022 03:50 | 423 | |
![]() | install-out.txt | 19-Oct-2022 03:50 | 873 | |
![]() | install-summary.dcf | 19-Oct-2022 03:50 | 258 | |