Name | Last modified | Size | Description | |
---|---|---|---|---|
Parent Directory | - | |||
buildsrc-out.txt | 19-Oct-2022 03:50 | 882 | ||
buildsrc-summary.dcf | 19-Oct-2022 03:50 | 444 | ||
install-out.txt | 19-Oct-2022 03:50 | 1.0K | ||
install-summary.dcf | 19-Oct-2022 03:50 | 277 | ||
checksrc-out.txt | 19-Oct-2022 03:50 | 3.0K | ||
checksrc-summary.dcf | 19-Oct-2022 03:50 | 459 | ||