Name | Last modified | Size | Description | |
---|---|---|---|---|
Parent Directory | - | |||
install-summary.dcf | 17-Feb-2022 22:36 | 267 | ||
buildsrc-summary.dcf | 17-Feb-2022 22:36 | 423 | ||
checksrc-summary.dcf | 17-Feb-2022 22:36 | 440 | ||
buildsrc-out.txt | 17-Feb-2022 22:36 | 812 | ||
install-out.txt | 17-Feb-2022 22:36 | 966 | ||
checksrc-out.txt | 17-Feb-2022 22:36 | 3.0K | ||