Index of /checkResults/3.15/data-experiment-LATEST/MSstatsBioData/raw-results/nebbiolo1
Name
Last modified
Size
Description
Parent Directory
-
buildsrc-out.txt
19-Oct-2022 03:50
1.3K
buildsrc-summary.dcf
19-Oct-2022 03:50
346
install-out.txt
19-Oct-2022 03:50
1.2K
install-summary.dcf
19-Oct-2022 03:50
272