Name | Last modified | Size | Description | |
---|---|---|---|---|
Parent Directory | - | |||
buildsrc-summary.dcf | 17-Feb-2022 22:36 | 490 | ||
install-out.txt | 17-Feb-2022 22:36 | 1.0K | ||
install-summary.dcf | 17-Feb-2022 22:36 | 311 | ||
buildsrc-out.txt | 17-Feb-2022 22:36 | 964 | ||
checksrc-out.txt | 17-Feb-2022 22:36 | 3.1K | ||
checksrc-summary.dcf | 17-Feb-2022 22:36 | 529 | ||