Name | Last modified | Size | Description | |
---|---|---|---|---|
Parent Directory | - | |||
buildsrc-out.txt | 19-Oct-2022 03:50 | 953 | ||
buildsrc-summary.dcf | 19-Oct-2022 03:50 | 479 | ||
checksrc-out.txt | 19-Oct-2022 03:50 | 3.0K | ||
checksrc-summary.dcf | 19-Oct-2022 03:50 | 507 | ||
install-out.txt | 19-Oct-2022 03:50 | 952 | ||
install-summary.dcf | 19-Oct-2022 03:50 | 300 | ||