Index of /checkResults/3.15/data-experiment-LATEST/KEGGandMetacoreDzPathwaysGEO/raw-results
Name
Last modified
Size
Description
Parent Directory
-
nebbiolo2/
17-Feb-2022 22:36
-
info.dcf
19-Oct-2022 03:50
315
nebbiolo1/
19-Oct-2022 03:50
-