Back to Build/check report for BioC 3.15 experimental data
ABCDEFGH[I]JKLMNOPQRSTUVWXYZ

This page was generated on 2022-05-24 14:49:58 -0400 (Tue, 24 May 2022).

HostnameOSArch (*)R versionInstalled pkgs
nebbiolo1Linux (Ubuntu 20.04.4 LTS)x86_644.2.0 (2022-04-22) -- "Vigorous Calisthenics" 4380
Click on any hostname to see more info about the system (e.g. compilers)      (*) as reported by 'uname -p', except on Windows and Mac OS X

All results for package Iyer517


To the developers/maintainers of the Iyer517 package:
Make sure to use the following settings in order to reproduce any error or warning you see on this page.

raw results

Package 191/410HostnameOS / ArchINSTALLBUILDCHECK
Iyer517 1.38.0  (landing page)
Vince Carey
Snapshot Date: 2022-05-24 07:30:02 -0400 (Tue, 24 May 2022)
git_url: https://git.bioconductor.org/packages/Iyer517
git_branch: RELEASE_3_15
git_last_commit: 2f4709b
git_last_commit_date: 2022-04-26 12:55:59 -0400 (Tue, 26 Apr 2022)
nebbiolo1Linux (Ubuntu 20.04.4 LTS) / x86_64  OK    OK    OK  UNNEEDED, same version is already published