Name | Last modified | Size | Description | |
---|---|---|---|---|
Parent Directory | - | |||
install-summary.dcf | 17-Feb-2022 22:36 | 276 | ||
install-out.txt | 17-Feb-2022 22:36 | 1.0K | ||
checksrc-summary.dcf | 15-Feb-2022 22:36 | 458 | ||
checksrc-out.txt | 15-Feb-2022 22:36 | 3.7K | ||
buildsrc-summary.dcf | 17-Feb-2022 22:36 | 350 | ||
buildsrc-out.txt | 17-Feb-2022 22:36 | 6.6K | ||