Index of /checkResults/3.15/data-experiment-LATEST/HDCytoData/raw-results

[ICO]NameLast modifiedSizeDescription

[DIR]Parent Directory  -  
[DIR]nebbiolo2/17-Feb-2022 22:36 -  
[   ]info.dcf05-Aug-2022 03:50 284  
[DIR]nebbiolo1/05-Aug-2022 03:50 -