Back to Build/check report for BioC 3.15 experimental data
ABCDEFG[H]IJKLMNOPQRSTUVWXYZ

This page was generated on 2022-06-30 14:50:08 -0400 (Thu, 30 Jun 2022).

HostnameOSArch (*)R versionInstalled pkgs
nebbiolo1Linux (Ubuntu 20.04.4 LTS)x86_644.2.0 (2022-04-22) -- "Vigorous Calisthenics" 4380
Click on any hostname to see more info about the system (e.g. compilers)      (*) as reported by 'uname -p', except on Windows and Mac OS X

BUILD results for HDCytoData on nebbiolo1


To the developers/maintainers of the HDCytoData package:
Make sure to use the following settings in order to reproduce any error or warning you see on this page.

raw results

Package 167/410HostnameOS / ArchINSTALLBUILDCHECK
HDCytoData 1.16.0  (landing page)
Lukas M. Weber
Snapshot Date: 2022-06-30 07:30:02 -0400 (Thu, 30 Jun 2022)
git_url: https://git.bioconductor.org/packages/HDCytoData
git_branch: RELEASE_3_15
git_last_commit: c3c60cb
git_last_commit_date: 2022-04-26 13:30:17 -0400 (Tue, 26 Apr 2022)
nebbiolo1Linux (Ubuntu 20.04.4 LTS) / x86_64  OK    OK    OK  UNNEEDED, same version is already published

Summary

Package: HDCytoData
Version: 1.16.0
Command: /home/biocbuild/bbs-3.15-bioc/R/bin/R CMD build --keep-empty-dirs --no-resave-data HDCytoData
StartedAt: 2022-06-30 10:26:09 -0400 (Thu, 30 Jun 2022)
EndedAt: 2022-06-30 10:27:58 -0400 (Thu, 30 Jun 2022)
EllapsedTime: 108.3 seconds
RetCode: 0
Status:   OK  
PackageFile: HDCytoData_1.16.0.tar.gz
PackageFileSize: 1.47 MiB

Command output

##############################################################################
##############################################################################
###
### Running command:
###
###   /home/biocbuild/bbs-3.15-bioc/R/bin/R CMD build --keep-empty-dirs --no-resave-data HDCytoData
###
##############################################################################
##############################################################################


* checking for file ‘HDCytoData/DESCRIPTION’ ... OK
* preparing ‘HDCytoData’:
* checking DESCRIPTION meta-information ... OK
* installing the package to build vignettes
* creating vignettes ... OK
* checking for LF line-endings in source and make files and shell scripts
* checking for empty or unneeded directories
* building ‘HDCytoData_1.16.0.tar.gz’