Back to Build/check report for BioC 3.15 experimental data
ABCDEF[G]HIJKLMNOPQRSTUVWXYZ

This page was generated on 2022-05-17 14:50:05 -0400 (Tue, 17 May 2022).

HostnameOSArch (*)R versionInstalled pkgs
nebbiolo1Linux (Ubuntu 20.04.4 LTS)x86_644.2.0 (2022-04-22) -- "Vigorous Calisthenics" 4379
Click on any hostname to see more info about the system (e.g. compilers)      (*) as reported by 'uname -p', except on Windows and Mac OS X

All results for package GSVAdata


To the developers/maintainers of the GSVAdata package:
Make sure to use the following settings in order to reproduce any error or warning you see on this page.

raw results

Package 153/410HostnameOS / ArchINSTALLBUILDCHECK
GSVAdata 1.32.0  (landing page)
Robert Castelo
Snapshot Date: 2022-05-17 07:30:02 -0400 (Tue, 17 May 2022)
git_url: https://git.bioconductor.org/packages/GSVAdata
git_branch: RELEASE_3_15
git_last_commit: b4be326
git_last_commit_date: 2022-04-26 13:01:23 -0400 (Tue, 26 Apr 2022)
nebbiolo1Linux (Ubuntu 20.04.4 LTS) / x86_64  OK    OK    OK  UNNEEDED, same version is already published