Name | Last modified | Size | Description | |
---|---|---|---|---|
Parent Directory | - | |||
buildsrc-out.txt | 19-Oct-2022 03:50 | 910 | ||
buildsrc-summary.dcf | 19-Oct-2022 03:50 | 495 | ||
checksrc-out.txt | 19-Oct-2022 03:50 | 3.4K | ||
checksrc-summary.dcf | 19-Oct-2022 03:50 | 528 | ||
install-out.txt | 19-Oct-2022 03:50 | 1.1K | ||
install-summary.dcf | 19-Oct-2022 03:50 | 311 | ||