![]() | Name | Last modified | Size | Description |
---|---|---|---|---|
![]() | Parent Directory | - | ||
![]() | install-out.txt | 19-Oct-2022 03:50 | 900 | |
![]() | install-summary.dcf | 19-Oct-2022 03:50 | 277 | |
![]() | buildsrc-out.txt | 19-Oct-2022 03:50 | 833 | |
![]() | buildsrc-summary.dcf | 19-Oct-2022 03:50 | 442 | |
![]() | checksrc-out.txt | 19-Oct-2022 03:50 | 3.3K | |
![]() | checksrc-summary.dcf | 19-Oct-2022 03:50 | 466 | |