Back to Build/check report for BioC 3.15 experimental data
AB[C]DEFGHIJKLMNOPQRSTUVWXYZ

This page was generated on 2022-01-25 08:37:02 -0500 (Tue, 25 Jan 2022).

HostnameOSArch (*)R versionInstalled pkgs
nebbiolo2Linux (Ubuntu 20.04.4 LTS)x86_64R Under development (unstable) (2022-01-05 r81451) -- "Unsuffered Consequences" 1325
Click on any hostname to see more info about the system (e.g. compilers)      (*) as reported by 'uname -p', except on Windows and Mac OS X

All results for package ChimpHumanBrainData


To the developers/maintainers of the ChimpHumanBrainData package:
Make sure to use the following settings in order to reproduce any error or warning you see on this page.

raw results

Package 54/406HostnameOS / ArchINSTALLBUILDCHECK
ChimpHumanBrainData 1.33.0  (landing page)
Sean Davis
Snapshot Date: 2022-01-25 04:00:02 -0500 (Tue, 25 Jan 2022)
git_url: https://git.bioconductor.org/packages/ChimpHumanBrainData
git_branch: master
git_last_commit: cf0f31e
git_last_commit_date: 2021-10-26 12:07:13 -0500 (Tue, 26 Oct 2021)
nebbiolo2Linux (Ubuntu 20.04.4 LTS) / x86_64  OK    OK    OK  UNNEEDED, same version is already published