Name | Last modified | Size | Description | |
---|---|---|---|---|
Parent Directory | - | |||
buildsrc-out.txt | 17-Feb-2022 22:36 | 845 | ||
buildsrc-summary.dcf | 17-Feb-2022 22:36 | 449 | ||
checksrc-out.txt | 17-Feb-2022 22:36 | 2.6K | ||
checksrc-summary.dcf | 17-Feb-2022 22:36 | 473 | ||
install-out.txt | 17-Feb-2022 22:36 | 1.3K | ||
install-summary.dcf | 17-Feb-2022 22:36 | 284 | ||