Name | Last modified | Size | Description | |
---|---|---|---|---|
Parent Directory | - | |||
buildsrc-out.txt | 17-Feb-2022 22:36 | 868 | ||
buildsrc-summary.dcf | 17-Feb-2022 22:36 | 420 | ||
checksrc-out.txt | 17-Feb-2022 22:36 | 4.4K | ||
checksrc-summary.dcf | 17-Feb-2022 22:36 | 440 | ||
install-out.txt | 17-Feb-2022 22:36 | 910 | ||
install-summary.dcf | 17-Feb-2022 22:36 | 263 | ||