Index of /checkResults/3.15/data-experiment-LATEST/BloodCancerMultiOmics2017/raw-results
Name
Last modified
Size
Description
Parent Directory
-
info.dcf
25-May-2022 03:49
318
nebbiolo1/
25-May-2022 03:49
-
nebbiolo2/
17-Feb-2022 22:36
-