Back to Build/check report for BioC 3.15 experimental data
[A]BCDEFGHIJKLMNOPQRSTUVWXYZ

This page was generated on 2022-05-12 14:50:03 -0400 (Thu, 12 May 2022).

HostnameOSArch (*)R versionInstalled pkgs
nebbiolo1Linux (Ubuntu 20.04.4 LTS)x86_644.2.0 (2022-04-22) -- "Vigorous Calisthenics" 4343
Click on any hostname to see more info about the system (e.g. compilers)      (*) as reported by 'uname -p', except on Windows and Mac OS X

All results for package AneuFinderData


To the developers/maintainers of the AneuFinderData package:
Make sure to use the following settings in order to reproduce any error or warning you see on this page.

raw results

Package 14/410HostnameOS / ArchINSTALLBUILDCHECK
AneuFinderData 1.24.0  (landing page)
Aaron Taudt
Snapshot Date: 2022-05-12 07:30:02 -0400 (Thu, 12 May 2022)
git_url: https://git.bioconductor.org/packages/AneuFinderData
git_branch: RELEASE_3_15
git_last_commit: cf6f385
git_last_commit_date: 2022-04-26 13:23:38 -0400 (Tue, 26 Apr 2022)
nebbiolo1Linux (Ubuntu 20.04.4 LTS) / x86_64  OK    OK    WARNINGS  UNNEEDED, same version is already published