Index of /checkResults/3.15/data-experiment-LATEST/ALL/raw-results/nebbiolo1

[ICO]NameLast modifiedSizeDescription

[DIR]Parent Directory  -  
[TXT]buildsrc-out.txt17-Aug-2022 03:50 853  
[   ]buildsrc-summary.dcf17-Aug-2022 03:50 405  
[TXT]checksrc-out.txt17-Aug-2022 03:50 3.4K 
[   ]checksrc-summary.dcf17-Aug-2022 03:50 407  
[TXT]install-out.txt17-Aug-2022 03:50 935  
[   ]install-summary.dcf17-Aug-2022 03:50 250