Index of /checkResults/3.15/data-annotation-LATEST/scAnnotatR.models/raw-results/nebbiolo1
Name
Last modified
Size
Description
Parent Directory
-
install-summary.dcf
21-Sep-2022 19:00
279
buildsrc-summary.dcf
21-Sep-2022 19:00
354
install-out.txt
21-Sep-2022 19:00
1.0K
buildsrc-out.txt
21-Sep-2022 19:00
1.2K