Name | Last modified | Size | Description | |
---|---|---|---|---|
Parent Directory | - | |||
buildsrc-out.txt | 21-Sep-2022 19:00 | 865 | ||
buildsrc-summary.dcf | 21-Sep-2022 19:00 | 483 | ||
checksrc-out.txt | 21-Sep-2022 19:00 | 2.5K | ||
checksrc-summary.dcf | 21-Sep-2022 19:00 | 513 | ||
install-out.txt | 21-Sep-2022 19:00 | 934 | ||
install-summary.dcf | 21-Sep-2022 19:00 | 303 | ||