Index of /checkResults/3.15/data-annotation-LATEST/JASPAR2022/raw-results
Name
Last modified
Size
Description
Parent Directory
-
info.dcf
21-Sep-2022 19:00
289
nebbiolo1/
21-Sep-2022 19:00
-