Index of /checkResults/3.15/books-LATEST/OSCA/raw-results/nebbiolo1
Name
Last modified
Size
Description
Parent Directory
-
buildsrc-summary.dcf
20-Oct-2022 03:00
406
buildsrc-out.txt
20-Oct-2022 03:00
827
install-summary.dcf
20-Oct-2022 03:00
251
install-out.txt
20-Oct-2022 03:00
923