Index of /checkResults/3.15/books-LATEST/OSCA.multisample/raw-results/nebbiolo1
Name
Last modified
Size
Description
Parent Directory
-
install-summary.dcf
20-Oct-2022 03:00
276
install-out.txt
20-Oct-2022 03:00
971
buildsrc-summary.dcf
20-Oct-2022 03:00
443
buildsrc-out.txt
20-Oct-2022 03:00
2.2K