Index of /checkResults/3.15/books-LATEST/OSCA.intro/raw-results/nebbiolo1
Name
Last modified
Size
Description
Parent Directory
-
buildsrc-out.txt
20-Oct-2022 03:00
9.6K
buildsrc-summary.dcf
20-Oct-2022 03:00
339
install-out.txt
20-Oct-2022 03:00
947
install-summary.dcf
20-Oct-2022 03:00
264