Index of /checkResults/3.15/books-LATEST/OSCA.basic/raw-results
Name
Last modified
Size
Description
Parent Directory
-
nebbiolo1/
20-Oct-2022 03:00
-
info.dcf
20-Oct-2022 03:00
278