Index of /checkResults/3.15/books-LATEST/OSCA.advanced/raw-results/nebbiolo1
Name
Last modified
Size
Description
Parent Directory
-
buildsrc-out.txt
20-Oct-2022 03:00
1.1K
buildsrc-summary.dcf
20-Oct-2022 03:00
435
install-out.txt
20-Oct-2022 03:00
959
install-summary.dcf
20-Oct-2022 03:00
270