Index of /checkResults/3.15/bioc-longtests-LATEST/biodbExpasy/raw-results/nebbiolo1
Name
Last modified
Size
Description
Parent Directory
-
buildsrc-out.txt
16-Oct-2022 10:00
782
buildsrc-summary.dcf
16-Oct-2022 10:00
458
checksrc-out.txt
16-Oct-2022 10:00
3.0K
checksrc-summary.dcf
16-Oct-2022 10:00
438