Index of /checkResults/3.15/bioc-longtests-LATEST/DelayedMatrixStats/raw-results/nebbiolo1
Name
Last modified
Size
Description
Parent Directory
-
checksrc-summary.dcf
16-Oct-2022 10:00
462
buildsrc-summary.dcf
16-Oct-2022 10:00
482
buildsrc-out.txt
16-Oct-2022 10:00
851
checksrc-out.txt
16-Oct-2022 10:00
3.4K