Index of /checkResults/3.15/bioc-longtests-LATEST/ChromSCape/raw-results/nebbiolo1
Name
Last modified
Size
Description
Parent Directory
-
buildsrc-out.txt
16-Oct-2022 10:00
856
buildsrc-summary.dcf
16-Oct-2022 10:00
456
checksrc-out.txt
16-Oct-2022 10:00
7.6K
checksrc-summary.dcf
16-Oct-2022 10:00
440