Index of /checkResults/3.15/bioc-longtests-LATEST/ChromSCape/raw-results
Name
Last modified
Size
Description
Parent Directory
-
nebbiolo1/
16-Oct-2022 10:00
-