Name | Last modified | Size | Description | |
---|---|---|---|---|
Parent Directory | - | |||
install-summary.dcf | 20-Oct-2022 02:23 | 261 | ||
buildsrc-summary.dcf | 20-Oct-2022 02:23 | 415 | ||
checksrc-summary.dcf | 20-Oct-2022 02:23 | 428 | ||
buildbin-summary.dcf | 20-Oct-2022 02:23 | 506 | ||
buildsrc-out.txt | 20-Oct-2022 02:23 | 893 | ||
install-out.txt | 20-Oct-2022 02:23 | 1.9K | ||
buildbin-out.txt | 20-Oct-2022 02:23 | 2.7K | ||
checksrc-out.txt | 20-Oct-2022 02:23 | 3.4K | ||