![]() | Name | Last modified | Size | Description |
---|---|---|---|---|
![]() | Parent Directory | - | ||
![]() | install-summary.dcf | 20-Oct-2022 02:22 | 277 | |
![]() | checksrc-summary.dcf | 20-Oct-2022 02:22 | 465 | |
![]() | buildsrc-summary.dcf | 20-Oct-2022 02:22 | 471 | |
![]() | buildbin-summary.dcf | 20-Oct-2022 02:22 | 542 | |
![]() | install-out.txt | 20-Oct-2022 02:22 | 856 | |
![]() | buildsrc-out.txt | 20-Oct-2022 02:22 | 947 | |
![]() | buildbin-out.txt | 20-Oct-2022 02:22 | 1.0K | |
![]() | checksrc-out.txt | 20-Oct-2022 02:22 | 3.5K | |