Name | Last modified | Size | Description | |
---|---|---|---|---|
Parent Directory | - | |||
buildbin-out.txt | 20-Oct-2022 02:23 | 1.1K | ||
buildbin-summary.dcf | 20-Oct-2022 02:23 | 557 | ||
buildsrc-out.txt | 20-Oct-2022 02:23 | 835 | ||
buildsrc-summary.dcf | 20-Oct-2022 02:23 | 441 | ||
checksrc-out.txt | 20-Oct-2022 02:23 | 3.6K | ||
checksrc-summary.dcf | 20-Oct-2022 02:23 | 462 | ||
install-out.txt | 20-Oct-2022 02:23 | 875 | ||
install-summary.dcf | 20-Oct-2022 02:23 | 278 | ||