Name | Last modified | Size | Description | |
---|---|---|---|---|
Parent Directory | - | |||
install-summary.dcf | 20-Oct-2022 02:21 | 283 | ||
install-out.txt | 20-Oct-2022 02:21 | 1.0K | ||
checksrc-summary.dcf | 20-Oct-2022 02:21 | 473 | ||
checksrc-out.txt | 20-Oct-2022 02:21 | 3.3K | ||
buildsrc-summary.dcf | 20-Oct-2022 02:21 | 453 | ||
buildsrc-out.txt | 20-Oct-2022 02:21 | 897 | ||